BEGIN:VCALENDAR
VERSION:2.0
PRODID:-//Mica Scotti Kole - ECPv5.2.0//NONSGML v1.0//EN
CALSCALE:GREGORIAN
METHOD:PUBLISH
X-WR-CALNAME:Mica Scotti Kole
X-ORIGINAL-URL:https://micascottikole.com
X-WR-CALDESC:Events for Mica Scotti Kole
BEGIN:VTIMEZONE
TZID:America/Detroit
BEGIN:DAYLIGHT
TZOFFSETFROM:-0500
TZOFFSETTO:-0400
TZNAME:EDT
DTSTART:20180311T070000
END:DAYLIGHT
BEGIN:STANDARD
TZOFFSETFROM:-0400
TZOFFSETTO:-0500
TZNAME:EST
DTSTART:20181104T060000
END:STANDARD
END:VTIMEZONE
BEGIN:VEVENT
DTSTART;VALUE=DATE:20180613
DTEND;VALUE=DATE:20180617
DTSTAMP:20260423T024336
CREATED:20180530T181137Z
LAST-MODIFIED:20180530T181137Z
UID:9052-1528848000-1529193599@micascottikole.com
SUMMARY:ENDING: SavvyAuthors Hot Summer PitchFest
DESCRIPTION:The SavvyAuthors Hot Summer PitchFest is for unpublished novels seeking representation or publication. Pitch your book on the blog to the listed agents and/or editors of your choosing. The agents/editors will then make requests from the pitch pool. \nMore info here and here. Hosted by SavvyAuthors. \n  \nFree Writing Events offers budget editing services from $5-10!\nYou can also support FWE on Patreon to keep it ad-free. \nSee any errors? Have I missed an event?\nContact me!
URL:https://micascottikole.com/events/ending-savvyauthors-hot-summer-pitchfest/
ATTACH;FMTTYPE=image/png:https://micascottikole.com/wp-content/uploads/2017/04/BG_PitchParty.png
END:VEVENT
BEGIN:VEVENT
DTSTART;VALUE=DATE:20180614
DTEND;VALUE=DATE:20180615
DTSTAMP:20260423T024336
CREATED:20180427T162618Z
LAST-MODIFIED:20180430T222924Z
UID:8909-1528934400-1529020799@micascottikole.com
SUMMARY:ENDING: Maine Artist Fellowship (USA: Maine)
DESCRIPTION:The Maine Artist Fellowship is for poets or authors who have lived in Maine at least one year. Submit up to 5 poems or up to 20 pages of prose. Prize is a $5000 fellowship. \nMore info here. Sponsored by the Maine Arts Commission. \n  \nFree Writing Events offers budget editing services from $5-10!\nYou can also support FWE on Patreon to keep it ad-free. \nSee any errors? Have I missed an event?\nContact me!
URL:https://micascottikole.com/events/ending-maine-artist-fellowship-usa-maine/
ATTACH;FMTTYPE=image/png:https://micascottikole.com/wp-content/uploads/2017/04/BG_Fellowship.png
END:VEVENT
BEGIN:VEVENT
DTSTART;VALUE=DATE:20180614
DTEND;VALUE=DATE:20180615
DTSTAMP:20260423T024336
CREATED:20180530T042647Z
LAST-MODIFIED:20180530T042647Z
UID:9034-1528934400-1529020799@micascottikole.com
SUMMARY:ENDING: Richard and Judy Book Club Contest (UK/Ireland)
DESCRIPTION:The Richard and Judy Book Club Search for a Bestseller is for novels in progress by unpublished UK or Ireland authors (self-published authors okay). Prize is a publishing contract with Bonnier Zaffre and a £30\,000 advance on royalties. Mainstream genre wanted\, not SFF\, children’s\, or YA. \nMore info here. Hosted by Richard and Judy Book Club. \n\nFree Writing Events offers budget editing services from $5-10!\nYou can also support FWE on Patreon to keep it ad-free. \nSee any errors? Have I missed an event?\nContact me!
URL:https://micascottikole.com/events/ending-richard-judy-book-club-contest-uk-ireland/
ATTACH;FMTTYPE=image/png:https://micascottikole.com/wp-content/uploads/2017/04/BG_Novel.png
END:VEVENT
END:VCALENDAR