BEGIN:VCALENDAR
VERSION:2.0
PRODID:-//Mica Scotti Kole - ECPv5.2.0//NONSGML v1.0//EN
CALSCALE:GREGORIAN
METHOD:PUBLISH
X-WR-CALNAME:Mica Scotti Kole
X-ORIGINAL-URL:https://micascottikole.com
X-WR-CALDESC:Events for Mica Scotti Kole
BEGIN:VTIMEZONE
TZID:America/Detroit
BEGIN:DAYLIGHT
TZOFFSETFROM:-0500
TZOFFSETTO:-0400
TZNAME:EDT
DTSTART:20180311T070000
END:DAYLIGHT
BEGIN:STANDARD
TZOFFSETFROM:-0400
TZOFFSETTO:-0500
TZNAME:EST
DTSTART:20181104T060000
END:STANDARD
END:VTIMEZONE
BEGIN:VEVENT
DTSTART;VALUE=DATE:20180601
DTEND;VALUE=DATE:20180602
DTSTAMP:20260422T195955
CREATED:20180328T030303Z
LAST-MODIFIED:20180430T222944Z
UID:8787-1527811200-1527897599@micascottikole.com
SUMMARY:ENDING: Sapiens Plurum Contest
DESCRIPTION:The Sapiens Plurum Contest  is for short fiction of 1500-3000 words on the theme “Can we alter our children’s history?” This theme is more specifically looking for stories about new technology and how it might be used to impact our past\, present\, or future. Prizes range from $300-$1000. Submissions open April 22nd. \nMore info here and here. hosted by Sapiens Plurum. \n  \nFree Writing Events offers budget editing services from $5-10!\nYou can also support FWE on Patreon to keep it ad-free. \nSee any errors? Have I missed an event?\nContact me!
URL:https://micascottikole.com/events/ending-sapiens-plurum-contest/
ATTACH;FMTTYPE=image/png:https://micascottikole.com/wp-content/uploads/2017/04/BG_ShortStory.png
END:VEVENT
BEGIN:VEVENT
DTSTART;VALUE=DATE:20180601
DTEND;VALUE=DATE:20180602
DTSTAMP:20260422T195955
CREATED:20180427T060405Z
LAST-MODIFIED:20180430T222313Z
UID:8884-1527811200-1527897599@micascottikole.com
SUMMARY:ENDING: Ross Legal Writing Competition (USA)
DESCRIPTION:The Ross Legal Writing Competition is for legal short fiction up to 5000 words that “illuminate the role of the law and/or lawyers in modern society.” Prize $3000. \nMore info here. Sponsored by the American Bar Association. \nFree Writing Events offers budget editing services from $5-10!\nYou can also support FWE on Patreon to keep it ad-free. \nSee any errors? Have I missed an event?\nContact me!
URL:https://micascottikole.com/events/ending-ross-legal-writing-competition-usa/
ATTACH;FMTTYPE=image/png:https://micascottikole.com/wp-content/uploads/2017/04/BG_ShortStory.png
END:VEVENT
BEGIN:VEVENT
DTSTART;VALUE=DATE:20180601
DTEND;VALUE=DATE:20180602
DTSTAMP:20260422T195955
CREATED:20180427T061107Z
LAST-MODIFIED:20180430T222308Z
UID:8890-1527811200-1527897599@micascottikole.com
SUMMARY:ENDING: American Warriors Writing Contest (USA)
DESCRIPTION:The American Warriors Writing Contest is for poetry\, short fiction\, essay\, interview with a warrior\, and photography by American military\, veterans\, or their families. Prize is $250 in each category. \nMore info here. Sponsored by Southeast Missouri State University Press. \n  \nFree Writing Events offers budget editing services from $5-10!\nYou can also support FWE on Patreon to keep it ad-free. \nSee any errors? Have I missed an event?\nContact me!
URL:https://micascottikole.com/events/ending-american-warriors-writing-contest-usa/
ATTACH;FMTTYPE=image/png:https://micascottikole.com/wp-content/uploads/2017/04/BG_Various.png
END:VEVENT
BEGIN:VEVENT
DTSTART;VALUE=DATE:20180601
DTEND;VALUE=DATE:20180602
DTSTAMP:20260422T195955
CREATED:20180427T162243Z
LAST-MODIFIED:20180430T222210Z
UID:8905-1527811200-1527897599@micascottikole.com
SUMMARY:ENDING: Stony Brook Short Fiction Prize (College)
DESCRIPTION:The Stony Brook Short Fiction Prize is for short fiction up to 7500 words by undergraduate students. Prize is $1000 and entry to writer’s conference. \nMore info here. Hosted by Southampton Review. \n  \nFree Writing Events offers budget editing services from $5-10!\nYou can also support FWE on Patreon to keep it ad-free. \nSee any errors? Have I missed an event?\nContact me!
URL:https://micascottikole.com/events/ending-stony-brook-short-fiction-prize-college/
ATTACH;FMTTYPE=image/png:https://micascottikole.com/wp-content/uploads/2017/04/BG_ShortStory.png
END:VEVENT
BEGIN:VEVENT
DTSTART;VALUE=DATE:20180601
DTEND;VALUE=DATE:20180602
DTSTAMP:20260422T195955
CREATED:20180501T162537Z
LAST-MODIFIED:20180501T162537Z
UID:8982-1527811200-1527897599@micascottikole.com
SUMMARY:#QuerySwap
DESCRIPTION:#QuerySwap is for authors looking for query critiques. Pitch your book on the Twitter hashtag\, along with genre and age category tags\, during the event\, and look for anyone with a similar genre to swap query critiques with. The event runs from 8am-8pm EST / 1pm – 1am GMT / 5am-5pm PST. \nMore info here. Hosted by The Manuscript Shredder. \n  \nFree Writing Events offers budget editing services from $5-10!\nYou can also support FWE on Patreon to keep it ad-free. \nSee any errors? Have I missed an event?\nContact me!
URL:https://micascottikole.com/events/queryswap-3/
ATTACH;FMTTYPE=image/png:https://micascottikole.com/wp-content/uploads/2017/04/BG_Event.png
END:VEVENT
END:VCALENDAR