BEGIN:VCALENDAR
VERSION:2.0
PRODID:-//Mica Scotti Kole - ECPv5.2.0//NONSGML v1.0//EN
CALSCALE:GREGORIAN
METHOD:PUBLISH
X-WR-CALNAME:Mica Scotti Kole
X-ORIGINAL-URL:https://micascottikole.com
X-WR-CALDESC:Events for Mica Scotti Kole
BEGIN:VTIMEZONE
TZID:America/Detroit
BEGIN:DAYLIGHT
TZOFFSETFROM:-0500
TZOFFSETTO:-0400
TZNAME:EDT
DTSTART:20180311T070000
END:DAYLIGHT
BEGIN:STANDARD
TZOFFSETFROM:-0400
TZOFFSETTO:-0500
TZNAME:EST
DTSTART:20181104T060000
END:STANDARD
END:VTIMEZONE
BEGIN:VEVENT
DTSTART;VALUE=DATE:20180531
DTEND;VALUE=DATE:20180601
DTSTAMP:20260422T231901
CREATED:20180427T061436Z
LAST-MODIFIED:20180430T222303Z
UID:8889-1527724800-1527811199@micascottikole.com
SUMMARY:ENDING: Black Orchid Novella Award
DESCRIPTION:The Black Orchid Novella Award is for traditional mystery novellas of 15\,000-20\,000 words. Prize is $1000 and publication. \nMore info here. Sponsored by The Wolfe Pack. \n  \nFree Writing Events offers budget editing services from $5-10!\nYou can also support FWE on Patreon to keep it ad-free. \nSee any errors? Have I missed an event?\nContact me!
URL:https://micascottikole.com/events/ending-black-orchid-novella-award-2/
ATTACH;FMTTYPE=image/png:https://micascottikole.com/wp-content/uploads/2017/04/BG_Other.png
END:VEVENT
BEGIN:VEVENT
DTSTART;VALUE=DATE:20180531
DTEND;VALUE=DATE:20180601
DTSTAMP:20260422T231901
CREATED:20180427T062043Z
LAST-MODIFIED:20180430T222257Z
UID:8888-1527724800-1527811199@micascottikole.com
SUMMARY:ENDING: I Must Be Off! Travel Writing Competition
DESCRIPTION:The I Must Be Off! Travel Writing Competition is for travel essays up to 1000 words. Prize €50-300. You can enter after the deadline for a small entry fee if needed. \nMore info here. Sponsored by I Must Be Off! \n  \nFree Writing Events offers budget editing services from $5-10!\nYou can also support FWE on Patreon to keep it ad-free. \nSee any errors? Have I missed an event?\nContact me!
URL:https://micascottikole.com/events/ending-must-off-travel-writing-competition/
ATTACH;FMTTYPE=image/png:https://micascottikole.com/wp-content/uploads/2017/04/BG_PersonalEssay.png
END:VEVENT
BEGIN:VEVENT
DTSTART;VALUE=DATE:20180531
DTEND;VALUE=DATE:20180601
DTSTAMP:20260422T231901
CREATED:20180427T062428Z
LAST-MODIFIED:20180430T222252Z
UID:8896-1527724800-1527811199@micascottikole.com
SUMMARY:ENDING: Sharlet Veterans Award
DESCRIPTION:The Sharlet Veterans Award is for poetry\, fiction\, and creative nonfiction by US veterans or active-duty personnel. Prize $1000 and publication. \nMore info here. Sponsored by Iowa Review. \n  \nFree Writing Events offers budget editing services from $5-10!\nYou can also support FWE on Patreon to keep it ad-free. \nSee any errors? Have I missed an event?\nContact me!
URL:https://micascottikole.com/events/ending-sharlet-veterans-award/
ATTACH;FMTTYPE=image/png:https://micascottikole.com/wp-content/uploads/2017/04/BG_Various.png
END:VEVENT
BEGIN:VEVENT
DTSTART;VALUE=DATE:20180531
DTEND;VALUE=DATE:20180601
DTSTAMP:20260422T231901
CREATED:20180427T062956Z
LAST-MODIFIED:20180430T222246Z
UID:8895-1527724800-1527811199@micascottikole.com
SUMMARY:ENDING: Jerry Jazz Musician Fiction Contest
DESCRIPTION:The Jerry Jazz Musician Fiction Contest is for literature up to 5000 words that shows “interests in music\, social history\, literature\, politics\, art\, film\, and theatre\, particularly that of the counter-culture of mid-20th century America.”  Prize is $100 and online publication. \nMore info here. Sponsored by Jerry Jazz Musician. \nFree Writing Events offers budget editing services from $5-10!\nYou can also support FWE on Patreon to keep it ad-free. \nSee any errors? Have I missed an event?\nContact me!
URL:https://micascottikole.com/events/ending-jerry-jazz-musician-fiction-contest-2/
ATTACH;FMTTYPE=image/png:https://micascottikole.com/wp-content/uploads/2017/04/BG_ShortStory.png
END:VEVENT
BEGIN:VEVENT
DTSTART;VALUE=DATE:20180531
DTEND;VALUE=DATE:20180601
DTSTAMP:20260422T231901
CREATED:20180427T063258Z
LAST-MODIFIED:20180430T222239Z
UID:8901-1527724800-1527811199@micascottikole.com
SUMMARY:ENDING: Southern Fried Karma Novel Contest
DESCRIPTION:The Southern Fried Karma Novel Contest is for novels that illuminate “the multiplicity of the Southern experience.” Prize $1500 advance plus publication. \nMore info here. Sponsored by Southern Fried Karma Press. \nFree Writing Events offers budget editing services from $5-10!\nYou can also support FWE on Patreon to keep it ad-free. \nSee any errors? Have I missed an event?\nContact me!
URL:https://micascottikole.com/events/ending-southern-fried-karma-novel-contest/
ATTACH;FMTTYPE=image/png:https://micascottikole.com/wp-content/uploads/2017/04/BG_Novel.png
END:VEVENT
BEGIN:VEVENT
DTSTART;VALUE=DATE:20180531
DTEND;VALUE=DATE:20180601
DTSTAMP:20260422T231901
CREATED:20180505T224635Z
LAST-MODIFIED:20180505T224635Z
UID:8986-1527724800-1527811199@micascottikole.com
SUMMARY:ENDING: SciFi Fatal Attractions Contest
DESCRIPTION:The SciFi Fatal Attractions Contest is for science fiction stories up to 7500 words involving fatal attraction. Prizes are a copy of The Guide to Writing Fantasy and Science Fiction\, book cover art from Million and One Graphics\, a 10K word beta-read of any work in progress\, and a 10K word edit on any work in progress. \nMore info here. Hosted by A Million and One Magazine. \n  \nFree Writing Events offers budget editing services from $5-10!\nYou can also support FWE on Patreon to keep it ad-free. \nSee any errors? Have I missed an event?\nContact me!
URL:https://micascottikole.com/events/ending-scifi-fatal-attractions-contest/
ATTACH;FMTTYPE=image/png:https://micascottikole.com/wp-content/uploads/2017/04/BG_ShortStory.png
END:VEVENT
END:VCALENDAR